BEGIN:VCALENDAR
VERSION:2.0
PRODID:-//金やプラチナの買取は高価買取専門店の大判小判 - ECPv6.15.11//NONSGML v1.0//EN
CALSCALE:GREGORIAN
METHOD:PUBLISH
X-ORIGINAL-URL:https://oban-koban.jp
X-WR-CALDESC:金やプラチナの買取は高価買取専門店の大判小判 のイベント
REFRESH-INTERVAL;VALUE=DURATION:PT1H
X-Robots-Tag:noindex
X-PUBLISHED-TTL:PT1H
BEGIN:VTIMEZONE
TZID:Asia/Tokyo
BEGIN:STANDARD
TZOFFSETFROM:+0900
TZOFFSETTO:+0900
TZNAME:JST
DTSTART:20250101T000000
END:STANDARD
END:VTIMEZONE
BEGIN:VEVENT
DTSTART;VALUE=DATE:20260330
DTEND;VALUE=DATE:20260404
DTSTAMP:20260421T210954
CREATED:20260413T071915Z
LAST-MODIFIED:20260413T071915Z
UID:16227-1774828800-1775260799@oban-koban.jp
SUMMARY:ダイエー東三国
DESCRIPTION:屋内イートイン前催事スペース　〒532-0002 大阪府大阪市淀川区東三国3丁目10-3
URL:https://oban-koban.jp/event/%e3%83%80%e3%82%a4%e3%82%a8%e3%83%bc%e6%9d%b1%e4%b8%89%e5%9b%bd
LOCATION:ダイエー東三国店\, 淀川区東三国3-10-3\, 大阪市\, 大阪府\, 532-0002\, 日本
CATEGORIES:大阪府の催事買取情報,関西エリアの催事買取一覧
END:VEVENT
END:VCALENDAR