BEGIN:VCALENDAR
VERSION:2.0
PRODID:-//金やプラチナの買取は高価買取専門店の大判小判 - ECPv6.15.11//NONSGML v1.0//EN
CALSCALE:GREGORIAN
METHOD:PUBLISH
X-WR-CALNAME:金やプラチナの買取は高価買取専門店の大判小判
X-ORIGINAL-URL:https://oban-koban.jp
X-WR-CALDESC:金やプラチナの買取は高価買取専門店の大判小判 のイベント
REFRESH-INTERVAL;VALUE=DURATION:PT1H
X-Robots-Tag:noindex
X-PUBLISHED-TTL:PT1H
BEGIN:VTIMEZONE
TZID:Asia/Tokyo
BEGIN:STANDARD
TZOFFSETFROM:+0900
TZOFFSETTO:+0900
TZNAME:JST
DTSTART:20250101T000000
END:STANDARD
END:VTIMEZONE
BEGIN:VEVENT
DTSTART;TZID=Asia/Tokyo:20260401T090000
DTEND;TZID=Asia/Tokyo:20260430T180000
DTSTAMP:20260419T215929
CREATED:20260407T094109Z
LAST-MODIFIED:20260407T094217Z
UID:16168-1775034000-1777572000@oban-koban.jp
SUMMARY:万代加納店
DESCRIPTION:店頭1F入口横　〒578-0901 大阪府東大阪市加納 8-33-16
URL:https://oban-koban.jp/event/%e4%b8%87%e4%bb%a3%e5%8a%a0%e7%b4%8d%e5%ba%97
LOCATION:万代加納店\, 加納 8-33-16\, 東大阪市\, 大阪府\, 〒578-0901\, 日本
CATEGORIES:大阪府の催事買取情報,関西エリアの催事買取一覧
END:VEVENT
BEGIN:VEVENT
DTSTART;TZID=Asia/Tokyo:20260401T090000
DTEND;TZID=Asia/Tokyo:20260430T180000
DTSTAMP:20260419T215929
CREATED:20260407T094109Z
LAST-MODIFIED:20260407T094231Z
UID:16169-1775034000-1777572000@oban-koban.jp
SUMMARY:万代梅の里店
DESCRIPTION:駐車場横別館　〒584-0001 大阪府富田林市梅の里3丁目1-4
URL:https://oban-koban.jp/event/%e4%b8%87%e4%bb%a3%e6%a2%85%e3%81%ae%e9%87%8c%e5%ba%97
LOCATION:万代梅の里店\, 梅の里3丁目1-4\, 富田林市\, 大阪府\, 〒584-0001\, 日本
CATEGORIES:大阪府の催事買取情報,関西エリアの催事買取一覧
END:VEVENT
BEGIN:VEVENT
DTSTART;TZID=Asia/Tokyo:20260401T090000
DTEND;TZID=Asia/Tokyo:20260430T180000
DTSTAMP:20260419T215929
CREATED:20260407T094109Z
LAST-MODIFIED:20260407T094320Z
UID:16172-1775034000-1777572000@oban-koban.jp
SUMMARY:万代柏原本郷店
DESCRIPTION:催事スペース　〒582-0001 大阪府柏原市本郷5丁目969
URL:https://oban-koban.jp/event/%e4%b8%87%e4%bb%a3%e6%9f%8f%e5%8e%9f%e6%9c%ac%e9%83%b7%e5%ba%97
LOCATION:万代柏原本郷店\, 本郷5丁目969\, 柏原市\, 大阪府\, 〒582-0001\, 日本
CATEGORIES:大阪府の催事買取情報,関西エリアの催事買取一覧
END:VEVENT
BEGIN:VEVENT
DTSTART;TZID=Asia/Tokyo:20260401T090000
DTEND;TZID=Asia/Tokyo:20260430T180000
DTSTAMP:20260419T215929
CREATED:20260407T094109Z
LAST-MODIFIED:20260407T094332Z
UID:16173-1775034000-1777572000@oban-koban.jp
SUMMARY:万代楽音寺店
DESCRIPTION:お花屋さん横　〒581-0853 大阪府八尾市楽音寺1丁目140
URL:https://oban-koban.jp/event/%e4%b8%87%e4%bb%a3%e6%a5%bd%e9%9f%b3%e5%af%ba%e5%ba%97
LOCATION:万代楽音寺店\, 楽音寺1丁目140\, 八尾市\, 大阪府\, 581-0853\, 日本
CATEGORIES:大阪府の催事買取情報,関西エリアの催事買取一覧
END:VEVENT
BEGIN:VEVENT
DTSTART;TZID=Asia/Tokyo:20260401T090000
DTEND;TZID=Asia/Tokyo:20260430T180000
DTSTAMP:20260419T215929
CREATED:20260407T094109Z
LAST-MODIFIED:20260407T094347Z
UID:16174-1775034000-1777572000@oban-koban.jp
SUMMARY:万代萱島店
DESCRIPTION:店舗前催事スペース　〒572-0824 大阪府寝屋川市萱島東2丁目12-33
URL:https://oban-koban.jp/event/%e4%b8%87%e4%bb%a3%e8%90%b1%e5%b3%b6%e5%ba%97
LOCATION:万代萱島店\, 萱島東2丁目12-33\, 寝屋川市\, 大阪府\, 〒572-0824\, Japan
CATEGORIES:大阪府の催事買取情報,関西エリアの催事買取一覧
END:VEVENT
END:VCALENDAR