BEGIN:VCALENDAR
VERSION:2.0
PRODID:-//金やプラチナの買取は高価買取専門店の大判小判 - ECPv6.15.11//NONSGML v1.0//EN
CALSCALE:GREGORIAN
METHOD:PUBLISH
X-WR-CALNAME:金やプラチナの買取は高価買取専門店の大判小判
X-ORIGINAL-URL:https://oban-koban.jp
X-WR-CALDESC:金やプラチナの買取は高価買取専門店の大判小判 のイベント
REFRESH-INTERVAL;VALUE=DURATION:PT1H
X-Robots-Tag:noindex
X-PUBLISHED-TTL:PT1H
BEGIN:VTIMEZONE
TZID:Asia/Tokyo
BEGIN:STANDARD
TZOFFSETFROM:+0900
TZOFFSETTO:+0900
TZNAME:JST
DTSTART:20250101T000000
END:STANDARD
END:VTIMEZONE
BEGIN:VEVENT
DTSTART;TZID=Asia/Tokyo:20260410T090000
DTEND;TZID=Asia/Tokyo:20260430T180000
DTSTAMP:20260422T061132
CREATED:20260407T094108Z
LAST-MODIFIED:20260407T094203Z
UID:16176-1775811600-1777572000@oban-koban.jp
SUMMARY:スーパーオザム小作
DESCRIPTION:【屋外】1階 店頭軒下　〒205-0016東京都羽村市羽加美1丁目10-3
URL:https://oban-koban.jp/event/%e3%82%b9%e3%83%bc%e3%83%91%e3%83%bc%e3%82%aa%e3%82%b6%e3%83%a0%e5%b0%8f%e4%bd%9c
LOCATION:東京都
CATEGORIES:関東エリアの催事買取一覧
END:VEVENT
BEGIN:VEVENT
DTSTART;VALUE=DATE:20260420
DTEND;VALUE=DATE:20260503
DTSTAMP:20260422T061132
CREATED:20260417T093604Z
LAST-MODIFIED:20260417T093604Z
UID:16256-1776643200-1777766399@oban-koban.jp
SUMMARY:マルサン武里
DESCRIPTION:【屋外】店頭催事スペース　〒344-0023 埼玉県春日部市大枝330-1
URL:https://oban-koban.jp/event/%e3%83%9e%e3%83%ab%e3%82%b5%e3%83%b3%e6%ad%a6%e9%87%8c
LOCATION:マルサン武里\, 大枝330-1\, 春日部市\, 埼玉県\, 〒344-0023\, Japan
CATEGORIES:埼玉県の催事買取情報,関東エリアの催事買取一覧
END:VEVENT
BEGIN:VEVENT
DTSTART;VALUE=DATE:20270413
DTEND;VALUE=DATE:20270418
DTSTAMP:20260422T061132
CREATED:20260413T070924Z
LAST-MODIFIED:20260413T070924Z
UID:16233-1807574400-1808006399@oban-koban.jp
SUMMARY:ヤオマサあしがらモール店
DESCRIPTION:カプセルトイ前　〒258-0016 神奈川県足柄上郡大井町上大井117
URL:https://oban-koban.jp/event/%e3%83%a4%e3%82%aa%e3%83%9e%e3%82%b5%e3%81%82%e3%81%97%e3%81%8c%e3%82%89%e3%83%a2%e3%83%bc%e3%83%ab%e5%ba%97
LOCATION:ヤオマサあしがらモール店\, 大井町上大井117\, 足柄上郡\, 神奈川県\, 〒258-0016\, Japan
CATEGORIES:神奈川県の催事買取情報,関東エリアの催事買取一覧
END:VEVENT
END:VCALENDAR