BEGIN:VCALENDAR
VERSION:2.0
PRODID:-//金やプラチナの買取は高価買取専門店の大判小判 - ECPv6.15.11//NONSGML v1.0//EN
CALSCALE:GREGORIAN
METHOD:PUBLISH
X-ORIGINAL-URL:https://oban-koban.jp
X-WR-CALDESC:金やプラチナの買取は高価買取専門店の大判小判 のイベント
REFRESH-INTERVAL;VALUE=DURATION:PT1H
X-Robots-Tag:noindex
X-PUBLISHED-TTL:PT1H
BEGIN:VTIMEZONE
TZID:Asia/Tokyo
BEGIN:STANDARD
TZOFFSETFROM:+0900
TZOFFSETTO:+0900
TZNAME:JST
DTSTART:20250101T000000
END:STANDARD
END:VTIMEZONE
BEGIN:VEVENT
DTSTART;VALUE=DATE:20260420
DTEND;VALUE=DATE:20260425
DTSTAMP:20260425T014844
CREATED:20260417T093743Z
LAST-MODIFIED:20260417T093743Z
UID:16257-1776643200-1777075199@oban-koban.jp
SUMMARY:マックスバリュエクスプレス北鳥山
DESCRIPTION:【屋外】店頭催事スペース　〒157-0061 東京都世田谷区北烏山7丁目2-12
URL:https://oban-koban.jp/event/%e3%83%9e%e3%83%83%e3%82%af%e3%82%b9%e3%83%90%e3%83%aa%e3%83%a5%e3%82%a8%e3%82%af%e3%82%b9%e3%83%97%e3%83%ac%e3%82%b9%e5%8c%97%e9%b3%a5%e5%b1%b1
LOCATION:マックスバリュエクスプレス北鳥山\, 北烏山7丁目2-12\, 世田谷区\, 東京都\, 〒157-0061\, Japan
CATEGORIES:東京都の催事買取情報,関東エリアの催事買取一覧
END:VEVENT
BEGIN:VEVENT
DTSTART;VALUE=DATE:20260413
DTEND;VALUE=DATE:20260418
DTSTAMP:20260425T014844
CREATED:20260413T071246Z
LAST-MODIFIED:20260413T071246Z
UID:16232-1776038400-1776470399@oban-koban.jp
SUMMARY:コープ真美ヶ丘
DESCRIPTION:【屋外】店頭催事スペース　〒639-0223 奈良県香芝市真美ケ丘1丁目14-5
URL:https://oban-koban.jp/event/%e3%82%b3%e3%83%bc%e3%83%97%e7%9c%9f%e7%be%8e%e3%83%b6%e4%b8%98
LOCATION:コープ真美ヶ丘\, 真美ケ丘1丁目14-5\, 香芝市\, 奈良県\, 〒639-0223\, Japan
CATEGORIES:奈良県の催事買取情報,関西エリアの催事買取一覧
END:VEVENT
BEGIN:VEVENT
DTSTART;VALUE=DATE:20260413
DTEND;VALUE=DATE:20260418
DTSTAMP:20260425T014844
CREATED:20260413T071112Z
LAST-MODIFIED:20260413T071112Z
UID:16231-1776038400-1776470399@oban-koban.jp
SUMMARY:カスミフードスクエア千葉みなと店
DESCRIPTION:【屋外】屋外1F駐車場催事スペース　〒261-0001 千葉県千葉市美浜区幸町1丁目12-6
URL:https://oban-koban.jp/event/%e3%82%ab%e3%82%b9%e3%83%9f%e3%83%95%e3%83%bc%e3%83%89%e3%82%b9%e3%82%af%e3%82%a8%e3%82%a2%e5%8d%83%e8%91%89%e3%81%bf%e3%81%aa%e3%81%a8%e5%ba%97
LOCATION:カスミフードスクエア千葉みなと店\, 美浜区幸町1丁目12-6\, 千葉市\, 千葉県\, 〒261-0001\, Japan
CATEGORIES:千葉県の催事買取情報,関東エリアの催事買取一覧
END:VEVENT
BEGIN:VEVENT
DTSTART;VALUE=DATE:20260410
DTEND;VALUE=DATE:20260411
DTSTAMP:20260425T014844
CREATED:20260413T071407Z
LAST-MODIFIED:20260413T071407Z
UID:16228-1775779200-1775865599@oban-koban.jp
SUMMARY:スーパーオザム小作
DESCRIPTION:【屋外】1階 店頭軒下　〒205-0016 東京都羽村市羽加美1丁目10-3
URL:https://oban-koban.jp/event/%e3%82%b9%e3%83%bc%e3%83%91%e3%83%bc%e3%82%aa%e3%82%b6%e3%83%a0%e5%b0%8f%e4%bd%9c-2
LOCATION:スーパーオザム小作\, 羽加美1丁目10-3\, 羽村市\, 東京都\, 〒205-0016\, Japan
CATEGORIES:東京都の催事買取情報,関東エリアの催事買取一覧
END:VEVENT
BEGIN:VEVENT
DTSTART;TZID=Asia/Tokyo:20260406T000000
DTEND;TZID=Asia/Tokyo:20260410T000000
DTSTAMP:20260425T014844
CREATED:20260413T071657Z
LAST-MODIFIED:20260413T071657Z
UID:16230-1775433600-1775779200@oban-koban.jp
SUMMARY:ヨークフーズ東村山店
DESCRIPTION:【屋内】1F青果側入口エスカレーター前催事スペース　〒189-0011 東京都東村山市恩多町5丁目47-5
URL:https://oban-koban.jp/event/%e3%83%a8%e3%83%bc%e3%82%af%e3%83%95%e3%83%bc%e3%82%ba%e6%9d%b1%e6%9d%91%e5%b1%b1%e5%ba%97
LOCATION:ヨークフーズ東村山店\, 恩多町5丁目47-5\, 東村山市\, 東京都\, 〒189-0011\, Japan
CATEGORIES:東京都の催事買取情報,関東エリアの催事買取一覧
END:VEVENT
BEGIN:VEVENT
DTSTART;VALUE=DATE:20260406
DTEND;VALUE=DATE:20260411
DTSTAMP:20260425T014844
CREATED:20260413T071518Z
LAST-MODIFIED:20260413T071518Z
UID:16229-1775433600-1775865599@oban-koban.jp
SUMMARY:コープいまご
DESCRIPTION:【屋外】店頭催事スペース　〒639-1031 奈良県大和郡山市今国府町366-5
URL:https://oban-koban.jp/event/%e3%82%b3%e3%83%bc%e3%83%97%e3%81%84%e3%81%be%e3%81%94
LOCATION:コープいまご店\, 今国府町366-5\, 大和郡山市\, 奈良県\, 〒639-1031\, 日本
CATEGORIES:奈良県の催事買取情報,関西エリアの催事買取一覧
END:VEVENT
BEGIN:VEVENT
DTSTART;TZID=Asia/Tokyo:20260330T000000
DTEND;TZID=Asia/Tokyo:20260403T000000
DTSTAMP:20260425T014844
CREATED:20260424T105524Z
LAST-MODIFIED:20260424T105524Z
UID:16286-1774828800-1775174400@oban-koban.jp
SUMMARY:ダイエー東三国
DESCRIPTION:屋内イートイン前催事スペース　〒532-0002大阪府大阪市淀川区東三国3丁目10-3
URL:https://oban-koban.jp/event/%e3%83%80%e3%82%a4%e3%82%a8%e3%83%bc%e6%9d%b1%e4%b8%89%e5%9b%bd-2
LOCATION:ダイエー東三国店\, 淀川区東三国3-10-3\, 大阪市\, 大阪府\, 532-0002\, 日本
CATEGORIES:大阪府の催事買取情報,関西エリアの催事買取一覧
END:VEVENT
BEGIN:VEVENT
DTSTART;VALUE=DATE:20260330
DTEND;VALUE=DATE:20260404
DTSTAMP:20260425T014844
CREATED:20260424T105446Z
LAST-MODIFIED:20260424T105446Z
UID:16285-1774828800-1775260799@oban-koban.jp
SUMMARY:グルメシティ多摩
DESCRIPTION:【屋外】1F店頭催事スペース　〒206-0025東京都多摩市永山4丁目2-1
URL:https://oban-koban.jp/event/%e3%82%b0%e3%83%ab%e3%83%a1%e3%82%b7%e3%83%86%e3%82%a3%e5%a4%9a%e6%91%a9-2
LOCATION:グルメシティ多摩\, 永山4丁目2-1\, 多摩市\, 東京都\, 〒206-0025\, Japan
CATEGORIES:東京都の催事買取情報,関東エリアの催事買取一覧
END:VEVENT
BEGIN:VEVENT
DTSTART;VALUE=DATE:20260330
DTEND;VALUE=DATE:20260404
DTSTAMP:20260425T014844
CREATED:20260413T071915Z
LAST-MODIFIED:20260413T071915Z
UID:16227-1774828800-1775260799@oban-koban.jp
SUMMARY:ダイエー東三国
DESCRIPTION:屋内イートイン前催事スペース　〒532-0002 大阪府大阪市淀川区東三国3丁目10-3
URL:https://oban-koban.jp/event/%e3%83%80%e3%82%a4%e3%82%a8%e3%83%bc%e6%9d%b1%e4%b8%89%e5%9b%bd
LOCATION:ダイエー東三国店\, 淀川区東三国3-10-3\, 大阪市\, 大阪府\, 532-0002\, 日本
CATEGORIES:大阪府の催事買取情報,関西エリアの催事買取一覧
END:VEVENT
BEGIN:VEVENT
DTSTART;VALUE=DATE:20260330
DTEND;VALUE=DATE:20260404
DTSTAMP:20260425T014844
CREATED:20260413T071825Z
LAST-MODIFIED:20260413T071825Z
UID:16226-1774828800-1775260799@oban-koban.jp
SUMMARY:グルメシティ多摩
DESCRIPTION:【屋外】1F店頭催事スペース　〒206-0025 東京都多摩市永山4丁目2-1
URL:https://oban-koban.jp/event/%e3%82%b0%e3%83%ab%e3%83%a1%e3%82%b7%e3%83%86%e3%82%a3%e5%a4%9a%e6%91%a9
LOCATION:グルメシティ多摩\, 永山4丁目2-1\, 多摩市\, 東京都\, 〒206-0025\, Japan
CATEGORIES:東京都の催事買取情報,関東エリアの催事買取一覧
END:VEVENT
BEGIN:VEVENT
DTSTART;VALUE=DATE:20260302
DTEND;VALUE=DATE:20260307
DTSTAMP:20260425T014844
CREATED:20260220T085546Z
LAST-MODIFIED:20260220T085546Z
UID:16100-1772409600-1772841599@oban-koban.jp
SUMMARY:スーパーバリューロピア入間春日町店
DESCRIPTION:〒 358-0006 埼玉県入間市春日町1-12-1
URL:https://oban-koban.jp/event/%e3%82%b9%e3%83%bc%e3%83%91%e3%83%bc%e3%83%90%e3%83%aa%e3%83%a5%e3%83%bc%e3%83%ad%e3%83%94%e3%82%a2%e5%85%a5%e9%96%93%e6%98%a5%e6%97%a5%e7%94%ba%e5%ba%97
LOCATION:スーパーバリューロピア入間春日町店\, 春日町1-12-1\, 入間市\, 埼玉県\, 〒 358-0006\, Japan
CATEGORIES:埼玉県の催事買取情報,関東エリアの催事買取一覧
END:VEVENT
BEGIN:VEVENT
DTSTART;TZID=Asia/Tokyo:20260202T000000
DTEND;TZID=Asia/Tokyo:20260213T000000
DTSTAMP:20260425T014844
CREATED:20260130T083843Z
LAST-MODIFIED:20260210T101029Z
UID:16081-1769990400-1770940800@oban-koban.jp
SUMMARY:スーパーバリュー南浦和
DESCRIPTION:〒336-0025 埼玉県さいたま市南区文蔵3-13-1
URL:https://oban-koban.jp/event/%e3%82%b9%e3%83%bc%e3%83%91%e3%83%bc%e3%83%90%e3%83%aa%e3%83%a5%e3%83%bc%e5%8d%97%e6%b5%a6%e5%92%8c
LOCATION:スーパーバリュー南浦和\, 南区文蔵３丁目１３−１\, さいたま市\, 埼玉県\, 〒336-0025\, Japan
CATEGORIES:埼玉県の催事買取情報,関東エリアの催事買取一覧
END:VEVENT
BEGIN:VEVENT
DTSTART;TZID=Asia/Tokyo:20260202T000000
DTEND;TZID=Asia/Tokyo:20260207T000000
DTSTAMP:20260425T014844
CREATED:20260130T083910Z
LAST-MODIFIED:20260210T101012Z
UID:16080-1769990400-1770422400@oban-koban.jp
SUMMARY:食品館アプロたまで
DESCRIPTION:〒557-0045 大阪府大阪市西成区玉出西2-2-8
URL:https://oban-koban.jp/event/%e9%a3%9f%e5%93%81%e9%a4%a8%e3%82%a2%e3%83%97%e3%83%ad%e3%81%9f%e3%81%be%e3%81%a7
LOCATION:食品館アプロたまで店\, 西成区玉出西2-2-8\, 大阪市\, 大阪府\, 〒557-0045\, 日本
CATEGORIES:大阪府の催事買取情報,関西エリアの催事買取一覧
END:VEVENT
BEGIN:VEVENT
DTSTART;VALUE=DATE:20260126
DTEND;VALUE=DATE:20260201
DTSTAMP:20260425T014844
CREATED:20260122T072624Z
LAST-MODIFIED:20260122T072624Z
UID:15941-1769385600-1769903999@oban-koban.jp
SUMMARY:食品館アプロ北鶴町
DESCRIPTION:〒551-0023　大阪府大阪市大正区鶴町3-20-30
URL:https://oban-koban.jp/event/%e9%a3%9f%e5%93%81%e9%a4%a8%e3%82%a2%e3%83%97%e3%83%ad%e5%8c%97%e9%b6%b4%e7%94%ba
LOCATION:食品館アプロ北鶴町\, 大正区鶴町３丁目２０−３０\, 大阪市\, 大阪府\, 〒551-0023\, Japan
CATEGORIES:大阪府の催事買取情報,関西エリアの催事買取一覧
END:VEVENT
BEGIN:VEVENT
DTSTART;TZID=Asia/Tokyo:20260119T090000
DTEND;TZID=Asia/Tokyo:20260131T180000
DTSTAMP:20260425T014844
CREATED:20260116T072121Z
LAST-MODIFIED:20260116T072121Z
UID:15934-1768813200-1769882400@oban-koban.jp
SUMMARY:ライフ東淡路
DESCRIPTION:〒533-0023 大阪府大阪市東淀川区東淡路5丁目8-35\n1/25休み
URL:https://oban-koban.jp/event/%e3%83%a9%e3%82%a4%e3%83%95%e6%9d%b1%e6%b7%a1%e8%b7%af
LOCATION:ライフ東淡路\, 東淀川区東淡路5丁目8-35\, 大阪市\, 大阪府\, 〒533-0023\, Japan
CATEGORIES:大阪府の催事買取情報,関西エリアの催事買取一覧
END:VEVENT
BEGIN:VEVENT
DTSTART;TZID=Asia/Tokyo:20260119T090000
DTEND;TZID=Asia/Tokyo:20260131T180000
DTSTAMP:20260425T014844
CREATED:20260116T071911Z
LAST-MODIFIED:20260116T071911Z
UID:15933-1768813200-1769882400@oban-koban.jp
SUMMARY:西友所沢ニュータウン
DESCRIPTION:〒359-0041 埼玉県所沢市中新井3-20-37\n1/25休み
URL:https://oban-koban.jp/event/%e8%a5%bf%e5%8f%8b%e6%89%80%e6%b2%a2%e3%83%8b%e3%83%a5%e3%83%bc%e3%82%bf%e3%82%a6%e3%83%b3
LOCATION:西友所沢ニュータウン\, 中新井3-20-37\, 所沢市\, 埼玉県\, 〒359-0041\, Japan
CATEGORIES:埼玉県の催事買取情報,関東エリアの催事買取一覧
END:VEVENT
BEGIN:VEVENT
DTSTART;TZID=Asia/Tokyo:20260119T090000
DTEND;TZID=Asia/Tokyo:20260124T180000
DTSTAMP:20260425T014844
CREATED:20260116T072145Z
LAST-MODIFIED:20260116T072145Z
UID:15935-1768813200-1769277600@oban-koban.jp
SUMMARY:グルメシティ鶴見
DESCRIPTION:〒538-0051 大阪府大阪市鶴見区諸口4-10-11
URL:https://oban-koban.jp/event/%e3%82%b0%e3%83%ab%e3%83%a1%e3%82%b7%e3%83%86%e3%82%a3%e9%b6%b4%e8%a6%8b-2
LOCATION:グルメシティ鶴見店\, 鶴見区諸口4丁目10-11\, 大阪市\, 大阪府\, 〒538-0051\, 日本
CATEGORIES:大阪府の催事買取情報,関西エリアの催事買取一覧
END:VEVENT
END:VCALENDAR